{"text_format":"1","workbook":"xlsx","n_sheets":2,"sheets":["Kumulativní rozpočet projektu","List2"],"not_rendered":{"charts":0,"images":2,"macros":1,"external_links":0,"defined_names":3,"comments":1,"pivot_tables":0},"unopened":[],"bounds":{"document_bytes":16777216,"sheet_cells":100000,"rows_first":2000,"rows_last":500,"rows_between":2000,"halvings":0,"cell_chars":16384,"cell_head_chars":4096},"cells_cut":0,"cells_raw":0,"read":"whole","date_system":"1900"}

{"sheet":"Kumulativní rozpočet projektu","index":0,"n_rows":40,"n_cols":13,"rows_kept":40,"cut":false,"hidden":false,"merged":[[5,6,5,10],[39,0,39,1],[2,6,2,10],[24,1,24,2],[24,4,24,5],[37,4,38,10],[36,4,36,10],[26,0,33,0],[32,1,32,2],[26,8,26,10],[27,8,27,10],[28,8,28,10],[29,8,29,10],[27,4,27,5],[28,4,28,5],[29,4,29,5],[30,1,30,2],[31,1,31,2],[27,1,27,2],[28,1,28,2],[29,1,29,2],[23,1,23,2],[22,1,22,2],[22,4,22,5],[22,8,22,10],[20,8,20,10],[20,4,20,5],[20,1,20,2],[21,8,21,10],[21,4,21,5],[21,1,21,2],[34,4,34,5],[30,4,30,5],[31,8,31,10],[33,8,33,10],[34,8,34,10],[30,8,30,10],[31,4,31,5],[33,4,33,5],[32,8,32,10],[32,4,32,5],[26,1,26,2],[26,4,26,5],[25,8,25,10],[25,1,25,2],[8,3,9,7],[8,8,9,9],[8,10,9,10],[16,8,17,10],[16,7,17,7],[16,3,17,3],[16,4,17,5],[16,6,17,6],[10,3,10,7],[11,3,11,7],[12,3,12,7],[16,0,17,1],[24,8,24,10],[0,0,0,10],[2,1,2,3],[3,1,3,3],[3,6,4,10],[16,2,17,2],[18,8,18,10],[19,8,19,10],[18,1,18,2],[19,1,19,2],[18,4,18,5],[19,4,19,5],[18,0,25,0],[25,4,25,5],[23,8,23,10],[23,4,23,5]]}
["KUMULATIVNÍ ROZPOČET PROJEKTU"]
[]
["Název žadatele",null,null,null,null,"Instrukce:","Editujte pouze zelená a zatrhávací pole a vybírejte hodnoty z rozevíracích seznamů!"]
["Název projektu",null,null,null,null,null,"V případě existence veřejné podpory u posuzovaného projektu se způsobilost výdajů na projektovou přípravu řídí kapitolou B.2.9 Pravidel pro žadatele a příjemce."]
[]
["Prioritní osa","PO2",null,null,null,null,"Důležité informace jsou označeny červeným trojúhelníkem v pravém horním rohu buněk."]
["Specifický cíl",12]
[]
[null,null,null,"Stanovení maximálních způsobilých výdajů",null,null,null,null,"rozsah opatření",null,"maximální způsobilé výdaje na opatření [Kč bez DPH]"]
[]
[null,null,null,"instalovaný tepelný výkon zdroje (dle projektu)",null,null,null,null,0,"[kWt]",{"$f":"I11*M11","v":0},1,9400]
[null,null,null,"otopná soustava",null,null,null,null,null,null,{"$f":"IF(List2!A39=FALSE,0,IF(L11=1,I11*5000,IF(L11=2,I11*5000,I11*10000)))","v":0}]
[null,null,null,"snižování emisí NH3 ",null,null,null,null,0,"[t.rok-1]",{"$f":"I13*850000","v":0}]
[null,null,null,null,null,null,null,null,null,"Celkem",{"$f":"SUM(K11:K13)","v":0}]
[]
["Souhrnný rozpočet"]
["Procentní výše způsob. výdajů na projektovou přípravu",null,{"$f":"IF(I25>10000000,\"6\",IF(I25>3000000,\"7\",IF(I25>1000000,\"8\",\"10\")))","v":"10"},"Cena bez DPH","procento DPH [%]",null,"Cena s DPH","Nezpůsobilá část celkových výdajů stanovená žadatelem (bez DPH)","Způsobilé výdaje po zohlednění limitů způsobilých výdajů a způsobilosti DPH"]
[]
["Realizace","2.2 a) / 2.4 a) Spalovací zdroj (včetně kotelny)",null,0,21,null,{"$f":"IF(B7=2,D19*(1+(E19/100)),IF(B7=1,D19*(1+(E19/100)),0))+IF(B7=13,D19*(1+(E19/100)),IF(B7=12,D19*(1+(E19/100)),0))","v":0},0,{"$f":"IF(B7=2,IF(List2!A41=TRUE,(D19-H19),(D19-H19)*(1+(E19/100))),IF(B7=1,IF(List2!A41=TRUE,IF((D19-H19)<K11,(D19-H19),K11),IF((D19-H19)<K11,(D19-H19)*(1+(E19/100)),K11*(1+(E19/100)))),0))+IF(B7=13,IF(List2!A41=TRUE,(D19-H19),(D19-H19)*(1+(E19/100))),IF(B7=12,IF(List2!A41=TRUE,IF((D19-H19)<K11,(D19-H19),K11),IF((D19-H19)<K11,(D19-H19)*(1+(E19/100)),K11*(1+(E19/100)))),0))","v":0}]
[null,"2.2 a) / 2.4 a) Otopná soustava",null,0,21,null,{"$f":"IF(B7=1,D20*(1+(E20/100)),0)+IF(B7=12,D20*(1+(E20/100)),0)","v":0},0,{"$f":"IF(B7=1,IF(List2!A41=TRUE,IF((D20-H20)<K12,(D20-H20),K12),IF((D20-H20)<K12,(D20-H20)*(1+(E20/100)),(K12)*(1+(E20/100)))),0)+IF(B7=12,IF(List2!A41=TRUE,IF((D20-H20)<K12,(D20-H20),K12),IF((D20-H20)<K12,(D20-H20)*(1+(E20/100)),(K12)*(1+(E20/100)))),0)","v":0}]
[null,"2.2 b) - i) / 2.4 b) - i) Ostatní technologie",null,0,21,null,{"$f":"IF(B7=1,0,IF(B7=2,0,IF(B7=12,0,IF(B7=13,0,IF(B7=11,0,D21*(1+(E21/100)))))))","v":0},0,{"$f":"IF(B7=1,0,IF(B7=2,0,IF(B7=11,0,IF(B7=12,0,IF(B7=13,0,IF(B7=8,(IF(List2!A41=TRUE,(IF((D21-H21)<K13,(D21-H21),K13)),IF((D21-H21)<K13,((D21-H21)*(1+(E21/100))),(K13*(1+(E21/100)))))),IF(List2!A41=TRUE,D21-H21,(D21-H21)*(1+(E21/100)))))))))","v":0}]
[null,"2.3 Projekty zaměřené na monitoring",null,0,21,null,{"$f":"IF(B7=11,D22*(1+(E22/100)),0)","v":0},0,{"$f":"IF(B7=11,IF(List2!A41=TRUE,D22-H22,(D22-H22)*(1+(E23/100))),0)","v":0}]
[null,"Dokumentace skutečného provedení",null,0,21,null,{"$f":"D23*(1+(E23/100))","v":0},0,{"$f":"IF(List2!A41=TRUE,D23-H23,(D23-H23)*(1+(E23/100)))","v":0}]
[null,"Rezerva",null,0,21,null,{"$f":"D24*(1+(E24/100))","v":0},0,{"$f":"0","v":0}]
[null,"Celkem (Přímé realizační výdaje)",null,{"$f":"SUM(D19:D24)","v":0},null,null,{"$f":"SUM(G19:G24)","v":0},{"$f":"SUM(H19:H24)","v":0},{"$f":"SUM(I19:K24)","v":0}]
[null,"Propagace",null,0,21,null,{"$f":"D26*(1+(E26/100))","v":0},0,{"$f":"IF((I25+I34)*0.85<12500000,IF(List2!$A$41=TRUE,IF((D26-H26)<2000,(D26-H26),2000),IF((D26-H26)*(1+(E26/100))<2000*(1+(E26/100)),(D26-H26)*(1+(E26/100)),2000*(1+(E26/100)))),IF((I25+I34)<136000000,IF(List2!$A$41=TRUE,IF((D26-H26)<20000,(D26-H26),20000),IF((D26-H26)*(1+(E26/100))<20000*(1+(E26/100)),(D26-H26)*(1+(E26/100)),20000*(1+(E26/100)))),IF(List2!$A$41=TRUE,IF((D26-H26)<70000,(D26-H26),70000),IF((D26-H26)*(1+(E26/100))<70000*(1+(E26/100)),(D26-H26)*(1+(E26/100)),70000*(1+(E26/100))))))","v":0}]
["Projektová příprava","Projektová dokumentace / studie",null,0,21,null,0,0,{"$f":"IF(List2!A41=TRUE,IF((D27-H27)>(I25*(C17/100)),(I25*(C17/100)),(D27-H27)),IF((D27-H27)*(1+(E27/100))>(I25*(C17/100)),(I25*(C17/100)),(D27-H27)*(1+(E27/100))))","v":0}]
[null,"Energetický posudek / studie proveditelnosti",null,0,21,null,0,0,{"$f":"IF(List2!A41=TRUE,IF((D28-H28)>((I25*(C17/100))-I27),((I25*(C17/100))-I27),(D28-H28)),IF((D28-H28)*(1+(E28/100))>((I25*(C17/100))-I27),((I25*(C17/100))-I27),(D28-H28)*(1+(E28/100))))","v":0}]
[null,"Technický dozor",null,0,21,null,0,0,{"$f":"IF(List2!A41=TRUE,IF((D29-H29)>((I25*(C17/100))-I27-I28),((I25*(C17/100))-I27-I28),(D29-H29)),IF((D29-H29)*(1+(E29/100))>((I25*(C17/100))-I27-I28),((I25*(C17/100))-I27-I28),(D29-H29)*(1+(E29/100))))","v":0}]
[null,"Autorský dozor",null,0,21,null,0,0,{"$f":"IF(List2!A41=TRUE,IF((D30-H30)>((I25*(C17/100))-I27-I28-I29),((I25*(C17/100))-I27-I28-I29),(D30-H30)),IF((D30-H30)*(1+(E30/100))>((I25*(C17/100))-I27-I28-I29),((I25*(C17/100))-I27-I28-I29),(D30-H30)*(1+(E30/100))))","v":0}]
[null,"Žádost",null,0,21,null,0,0,{"$f":"IF(List2!A41=TRUE,IF((D31-H31)>30000,IF(((I25*(C17/100))-I27-I28-I29-I30)>(30000),(30000),((I25*(C17/100))-I27-I28-I29-I30)),IF((D31-H31)*(1+(E31/100))>((I25*(C17/100))-I27-I28-I29-I30),((I25*(C17/100))-I27-I28-I29-I30),(D31-H31))),IF((D31-H31)>30000,IF(((I25*(C17/100))-I27-I28-I29-I30)>(30000*(1+(E31/100))),(30000*(1+(E31/100))),((I25*(C17/100))-I27-I28-I29-I30)),IF((D31-H31)*(1+(E31/100))>((I25*(C17/100))-I27-I28-I29-I30),((I25*(C17/100))-I27-I28-I29-I30),(D31-H31)*(1+(E31/100)))))","v":0}]
[null,"Výběrové řízení",null,0,21,null,0,0,{"$f":"IF(List2!A41=TRUE,IF((D32-H32)>((I25*(C17/100))-I27-I28-I29-I30-I31),((I25*(C17/100))-I27-I28-I29-I30-I31),(D32-H32)),IF((D32-H32)*(1+(E32/100))>((I25*(C17/100))-I27-I28-I29-I30-I31),((I25*(C17/100))-I27-I28-I29-I30-I31),(D32-H32)*(1+(E32/100))))","v":0}]
[null,null,null,0,21,null,0,0,{"$f":"IF(List2!A41=TRUE,IF((D33-H33)>((I25*(C17/100))-I27-I28-I29-I30-I31-I32),((I25*(C17/100))-I27-I28-I29-I30-I31-I32),(D33-H33)),IF((D33-H33)*(1+(E33/100))>((I25*(C17/100))-I27-I28-I29-I30-I31-I32),((I25*(C17/100))-I27-I28-I29-I30-I31-I32),(D33-H33)*(1+(E33/100))))","v":0}]
[null,"Celkem ",null,{"$f":"SUM(D27:D33)","v":0},null,null,{"$f":"SUM(G27:G33)","v":0},{"$f":"SUM(H27:H33)","v":0},{"$f":"SUM(I27:K33)","v":0}]
[null,null,"Celkem",{"$f":"D34+D26+D25","v":0},null,null,{"$f":"G34+G26+G25","v":0},{"$f":"H34+H26+H25","v":0},{"$f":"I25+I26+I34","v":0}]
[]
["Celkové výdaje projektu",null,{"$f":"G35","v":0},null,"Komentář k nezpůsobilým výdajům stanoveným žadatelem:"]
["Celkové způsobilé výdaje projektu",null,{"$f":"I35","v":0}]
["Celkové nezpůsobilé výdaje projektu",null,{"$f":"C37-C38","v":0}]
["Celkové způsobilé investiční (realizační) náklady (bez DPH)",null,{"$f":"IF(List2!A41=FALSE,I19/(1+(E19/100)),I19)+IF(List2!A41=FALSE,I20/(1+(E20/100)),I20)+IF(List2!A41=FALSE,I21/(1+(E21/100)),I21)+IF(List2!A41=FALSE,I22/(1+(E22/100)),I22)+IF(List2!A41=FALSE,I23/(1+(E23/100)),I23)","v":0}]

{"sheet":"List2","index":1,"n_rows":49,"n_cols":8,"rows_kept":49,"cut":false,"hidden":true,"merged":[]}
["Volba","nezvoleno","PO 2"]
["nezvoleno","nezvoleno","2.2 a) Lokální spalovací stacionární zdroje"]
[null,null,"2.2 a) Ostatní spalovací stacionární zdroje"]
["PO_2",null,"2.2 b) Ostatní stacionární zdroje"]
[null,null,"2.2 c) Stacionární zdroje těkavých organických látek"]
[null,null,"2.2 d) Dodatečné technologie a změny technologických postupů u spalovacích zdrojů"]
[null,null,"2.2 e) Dodatečné technologie a změny technologických postupů u stacionárních zdrojů"]
[null,null,"2.2 f) Dodatečné technologie a změny technologických postupů u stacionárních zdrojů těkavých organických látek"]
[null,null,"2.2 g) Technologie ke snižování emisí NH3"]
[null,null,"2.2 h) Omezování prašnosti z plošných zdrojů"]
[null,null,"2.2 i) Soustavy centralizovaného zásobování tepelnou energií"]
[null,null,"2.3 Projekty zaměřené na monitoring"]
[null,null,"2.4 a) Lokální spalovací stacionární zdroje"]
[null,null,"2.4 a) Ostatní spalovací stacionární zdroje"]
[null,null,"2.4 b) Ostatní stacionární zdroje"]
[null,null,"2.4 c) Stacionární zdroje těkavých organických látek"]
[null,null,"2.4 d) Dodatečné technologie a změny technologických postupů u spalovacích zdrojů"]
[null,null,"2.4 e) Dodatečné technologie a změny technologických postupů u stacionárních zdrojů"]
[null,null,"2.4 f) technologie ke snižování emisí NH3"]
[null,null,"2.4 g) omezování prašnosti z plošných zdrojů"]
[null,null,"2.4 h) soustavy centralizovaného zásobování tepelnou energií"]
["Volba",true,false]
[true,"Kotel na pevná paliva","není"]
[false,"Kondenzační kotel na zemní plyn"]
[null,"Elektrické tepelné čerpadlo vzduch/voda"]
[null,"Elektrické tepelné čerpadlo země/voda"]
[null,"Elektrické tepelné čerpadlo voda/voda"]
[null,"Plynové tepelné čerpadlo vzduch/voda"]
[null,"Plynové tepelné čerpadlo země/voda"]
[null,"Plynové tepelné čerpadlo voda/voda"]
[null,"Plochý kolektor"]
[null,"Trubicový vakuový kolektor"]
[]
[]
[null,null,null,9400]
[null,null,null,8300]
[2,null,null,30000]
[8300,null,null,45900]
[false,null,null,45900]
[true,null,null,20600]
[false,null,null,34300]
[null,null,null,34300,2]
[null,null,null,26500,{"$f":"E42","v":2}]
[null,null,null,48400,2000]
[null,null,null,170000]
[]
[null,null,null,null,null,null,null,"KDYŽ(B2=\"ano\";C6*0,22;KDYŽ(B2=\"ne\";C6*0,05;\"chyba\"))"]
["Kotel na biomasu/tuhá paliva/plyn"]
["Plynové / Elektrické TČ"]